BEGIN:VCALENDAR
VERSION:2.0
PRODID:icalendar-ruby
CALSCALE:GREGORIAN
METHOD:PUBLISH
BEGIN:VEVENT
DTSTAMP:20260424T094915Z
UID:91ece669-6c38-4899-903d-deb977b905f5
DTSTART:20261122T050000
DTEND:20261122T160000
DESCRIPTION:<p><span style="color: rgb(0\, 0\, 0)\;">Ride 97km through the 
 streets of Joburg. Enjoy full road-closure for red-hot racing through the 
 normally bustling city streets or a chilled cruise - you choose.</span></p
 ><p><strong>Individual Rider:</strong> Standard individual entry on a trad
 itional upright bicycle.</p><p><strong>Tandem: </strong>Standard tandem en
 try. Both riders need to enter their information.</p><p><strong>E-bike: </
 strong>Only pedal-assist E-Bikes are permitted in this race as set out in 
 T&C's</p><p><strong>Handcycle:</strong> A hand cycle is a type of human po
 wered vehicle powered by the arms rather than the legs.</p><p><strong>Recu
 mbent Cycle:</strong> A recumbent is a variety of bicycle which places the
  rider in a seated or lying position. The back of the rider is supported\,
  and the rider's legs extend forward to pedals that are at about the same 
 height as the seat.</p><p><strong>Para Cyclist Start Group: </strong>A sta
 rt group allocated to Para Cyclists. Disability must be stated in the Medi
 cal Details section of the entry process.</p><p><strong>Para Cyclist Perso
 nal Start Group: </strong>Para Cyclists who choose this category will be s
 eeding to their own personal seeding. Disability must be stated in the Me
 dical Details section of the entry process.</p><p><br></p>
LOCATION:Corner R55 &\, Allandale Rd\, Kyalami\, Midrand\, 1684
SUMMARY:Ride Joburg Road 2026
URL;VALUE=URI:https://ridejoburg.howler.co.za/road2026
END:VEVENT
END:VCALENDAR
